Package: AnnotationFuncs Version: 1.42.0 Command: C:\cygwin\bin\curl.exe -O http://155.52.207.165/BBS/3.13/bioc/src/contrib/AnnotationFuncs_1.42.0.tar.gz && rm -rf AnnotationFuncs.buildbin-libdir && mkdir AnnotationFuncs.buildbin-libdir && C:\Users\biocbuild\bbs-3.13-bioc\R\bin\R.exe CMD INSTALL --merge-multiarch --build --library=AnnotationFuncs.buildbin-libdir AnnotationFuncs_1.42.0.tar.gz && C:\Users\biocbuild\bbs-3.13-bioc\R\bin\R.exe CMD INSTALL AnnotationFuncs_1.42.0.zip && rm AnnotationFuncs_1.42.0.tar.gz AnnotationFuncs_1.42.0.zip StartedAt: 2021-10-14 08:05:04 -0400 (Thu, 14 Oct 2021) EndedAt: 2021-10-14 08:05:38 -0400 (Thu, 14 Oct 2021) EllapsedTime: 33.6 seconds RetCode: 0 Status: OK