Package: AnnotationFuncs Version: 1.42.0 Command: chmod a+r AnnotationFuncs -R && C:\Users\biocbuild\bbs-3.13-bioc\R\bin\R.exe CMD build --keep-empty-dirs --no-resave-data AnnotationFuncs StartedAt: 2021-10-14 11:42:48 -0400 (Thu, 14 Oct 2021) EndedAt: 2021-10-14 11:43:37 -0400 (Thu, 14 Oct 2021) EllapsedTime: 49.4 seconds RetCode: 1 Status: ERROR PackageFile: None PackageFileSize: NA