Package: AnnotationFuncs Version: 1.42.0 Command: /home/biocbuild/bbs-3.13-bioc/R/bin/R CMD build --keep-empty-dirs --no-resave-data AnnotationFuncs StartedAt: 2021-10-14 06:41:55 -0400 (Thu, 14 Oct 2021) EndedAt: 2021-10-14 06:42:10 -0400 (Thu, 14 Oct 2021) EllapsedTime: 14.9 seconds RetCode: 1 Status: ERROR PackageFile: None PackageFileSize: NA