Package: AnnotationFuncs Version: 1.42.0 Command: /Library/Frameworks/R.framework/Versions/Current/Resources/bin/R CMD INSTALL AnnotationFuncs StartedAt: 2021-10-14 08:41:41 -0400 (Thu, 14 Oct 2021) EndedAt: 2021-10-14 08:42:26 -0400 (Thu, 14 Oct 2021) EllapsedTime: 44.4 seconds RetCode: 0 Status: OK