Package: AnnotationDbi Version: 1.54.1 Command: chmod a+r AnnotationDbi -R && C:\Users\biocbuild\bbs-3.13-bioc\R\bin\R.exe CMD build --keep-empty-dirs --no-resave-data AnnotationDbi StartedAt: 2021-10-14 11:41:31 -0400 (Thu, 14 Oct 2021) EndedAt: 2021-10-14 11:45:03 -0400 (Thu, 14 Oct 2021) EllapsedTime: 211.9 seconds RetCode: 0 Status: OK PackageFile: AnnotationDbi_1.54.1.tar.gz PackageFileSize: 4.131 MiB