Package: AnnotationDbi Version: 1.54.1 Command: /home/biocbuild/bbs-3.13-bioc/R/bin/R CMD INSTALL AnnotationDbi StartedAt: 2021-10-14 06:08:26 -0400 (Thu, 14 Oct 2021) EndedAt: 2021-10-14 06:08:44 -0400 (Thu, 14 Oct 2021) EllapsedTime: 18.5 seconds RetCode: 0 Status: OK