Package: AnnotationDbi Version: 1.54.1 Command: /home/biocbuild/bbs-3.13-bioc/R/bin/R CMD check --install=check:AnnotationDbi.install-out.txt --library=/home/biocbuild/bbs-3.13-bioc/R/library --no-vignettes --timings AnnotationDbi_1.54.1.tar.gz StartedAt: 2021-10-14 08:51:24 -0400 (Thu, 14 Oct 2021) EndedAt: 2021-10-14 08:54:57 -0400 (Thu, 14 Oct 2021) EllapsedTime: 213.4 seconds RetCode: 0 Status: OK CheckDir: AnnotationDbi.Rcheck Warnings: 0