Package: AnnotationDbi Version: 1.54.1 Command: /home/biocbuild/bbs-3.13-bioc/R/bin/R CMD build --keep-empty-dirs --no-resave-data AnnotationDbi StartedAt: 2021-10-14 06:41:48 -0400 (Thu, 14 Oct 2021) EndedAt: 2021-10-14 06:42:31 -0400 (Thu, 14 Oct 2021) EllapsedTime: 43.1 seconds RetCode: 0 Status: OK PackageFile: AnnotationDbi_1.54.1.tar.gz PackageFileSize: 4.128 MiB