Package: AnnotationDbi Version: 1.54.1 Command: /Library/Frameworks/R.framework/Versions/Current/Resources/bin/R CMD INSTALL AnnotationDbi StartedAt: 2021-10-14 08:40:49 -0400 (Thu, 14 Oct 2021) EndedAt: 2021-10-14 08:41:37 -0400 (Thu, 14 Oct 2021) EllapsedTime: 48.0 seconds RetCode: 0 Status: OK