Package: AnnotationDbi Version: 1.54.1 Command: rm -rf AnnotationDbi.buildbin-libdir && mkdir AnnotationDbi.buildbin-libdir && /Users/biocbuild/BBS/utils/build-universal.sh AnnotationDbi_1.54.1.tar.gz /Library/Frameworks/R.framework/Versions/Current/Resources/bin/R AnnotationDbi.buildbin-libdir StartedAt: 2021-10-15 01:34:41 -0400 (Fri, 15 Oct 2021) EndedAt: 2021-10-15 01:35:50 -0400 (Fri, 15 Oct 2021) EllapsedTime: 69.0 seconds RetCode: 0 Status: OK PackageFile: AnnotationDbi_1.54.1.tgz PackageFileSize: 4.935 MiB