Package: Anaquin Version: 2.16.0 Command: rm -rf Anaquin.buildbin-libdir && mkdir Anaquin.buildbin-libdir && C:\Users\biocbuild\bbs-3.13-bioc\R\bin\R.exe CMD INSTALL --merge-multiarch --build --library=Anaquin.buildbin-libdir Anaquin_2.16.0.tar.gz StartedAt: 2021-10-15 07:59:04 -0400 (Fri, 15 Oct 2021) EndedAt: 2021-10-15 08:00:29 -0400 (Fri, 15 Oct 2021) EllapsedTime: 84.4 seconds RetCode: 0 Status: OK PackageFile: Anaquin_2.16.0.zip PackageFileSize: 466.3 KiB