Package: Anaquin Version: 2.16.0 Command: /Library/Frameworks/R.framework/Versions/Current/Resources/bin/R CMD INSTALL Anaquin StartedAt: 2021-10-14 09:28:43 -0400 (Thu, 14 Oct 2021) EndedAt: 2021-10-14 09:29:38 -0400 (Thu, 14 Oct 2021) EllapsedTime: 55.4 seconds RetCode: 0 Status: OK