Package: AnVILPublish Version: 1.2.0 Command: /Library/Frameworks/R.framework/Versions/Current/Resources/bin/R CMD INSTALL AnVILPublish StartedAt: 2021-10-14 09:34:00 -0400 (Thu, 14 Oct 2021) EndedAt: 2021-10-14 09:34:54 -0400 (Thu, 14 Oct 2021) EllapsedTime: 54.0 seconds RetCode: 0 Status: OK