Package: AnVILPublish Version: 1.2.0 Command: rm -rf AnVILPublish.buildbin-libdir && mkdir AnVILPublish.buildbin-libdir && /Users/biocbuild/BBS/utils/build-universal.sh AnVILPublish_1.2.0.tar.gz /Library/Frameworks/R.framework/Versions/Current/Resources/bin/R AnVILPublish.buildbin-libdir StartedAt: 2021-10-15 01:35:45 -0400 (Fri, 15 Oct 2021) EndedAt: 2021-10-15 01:36:54 -0400 (Fri, 15 Oct 2021) EllapsedTime: 69.4 seconds RetCode: 0 Status: OK PackageFile: AnVILPublish_1.2.0.tgz PackageFileSize: 251.2 KiB