git_url: https://git.bioconductor.org/packages/AnVILPublish git_branch: RELEASE_3_13 git_last_commit: ca7c985 git_last_commit_date: 2021-05-19 12:56:48 -0400 (Wed, 19 May 2021) Package: AnVILPublish Version: 1.2.0 Maintainer: Martin Morgan MaintainerEmail: mtmorgan.bioc at gmail.com