Package: AnVILBilling Version: 1.2.0 Command: rm -rf AnVILBilling.buildbin-libdir && mkdir AnVILBilling.buildbin-libdir && /Users/biocbuild/BBS/utils/build-universal.sh AnVILBilling_1.2.0.tar.gz /Library/Frameworks/R.framework/Versions/Current/Resources/bin/R AnVILBilling.buildbin-libdir StartedAt: 2021-10-15 01:35:39 -0400 (Fri, 15 Oct 2021) EndedAt: 2021-10-15 01:36:49 -0400 (Fri, 15 Oct 2021) EllapsedTime: 69.3 seconds RetCode: 0 Status: OK PackageFile: AnVILBilling_1.2.0.tgz PackageFileSize: 674 KiB