Package: AnVIL Version: 1.4.1 Command: chmod a+r AnVIL -R && C:\Users\biocbuild\bbs-3.13-bioc\R\bin\R.exe CMD build --keep-empty-dirs --no-resave-data AnVIL StartedAt: 2021-10-14 11:44:50 -0400 (Thu, 14 Oct 2021) EndedAt: 2021-10-14 11:45:34 -0400 (Thu, 14 Oct 2021) EllapsedTime: 44.8 seconds RetCode: 0 Status: OK PackageFile: AnVIL_1.4.1.tar.gz PackageFileSize: 846 KiB