Package: AnVIL
Version: 1.4.1
Command: /home/biocbuild/bbs-3.13-bioc/R/bin/R CMD INSTALL AnVIL
StartedAt: 2021-10-14 06:17:00 -0400 (Thu, 14 Oct 2021)
EndedAt: 2021-10-14 06:17:04 -0400 (Thu, 14 Oct 2021)
EllapsedTime: 4.3 seconds
RetCode: 0
Status: OK