Package: AlphaBeta Version: 1.6.1 Command: rm -rf AlphaBeta.buildbin-libdir && mkdir AlphaBeta.buildbin-libdir && C:\Users\biocbuild\bbs-3.13-bioc\R\bin\R.exe CMD INSTALL --merge-multiarch --build --library=AlphaBeta.buildbin-libdir AlphaBeta_1.6.1.tar.gz StartedAt: 2021-10-15 07:57:59 -0400 (Fri, 15 Oct 2021) EndedAt: 2021-10-15 07:59:04 -0400 (Fri, 15 Oct 2021) EllapsedTime: 65.4 seconds RetCode: 0 Status: OK PackageFile: AlphaBeta_1.6.1.zip PackageFileSize: 2.682 MiB