Package: AgiMicroRna Version: 2.42.0 Command: /Library/Frameworks/R.framework/Versions/Current/Resources/bin/R CMD INSTALL AgiMicroRna StartedAt: 2021-10-14 10:14:40 -0400 (Thu, 14 Oct 2021) EndedAt: 2021-10-14 10:15:51 -0400 (Thu, 14 Oct 2021) EllapsedTime: 70.2 seconds RetCode: 0 Status: OK