Package: AffyCompatible Version: 1.52.0 Command: chmod a+r AffyCompatible -R && C:\Users\biocbuild\bbs-3.13-bioc\R\bin\R.exe CMD build --keep-empty-dirs --no-resave-data AffyCompatible StartedAt: 2021-10-14 11:34:30 -0400 (Thu, 14 Oct 2021) EndedAt: 2021-10-14 11:36:13 -0400 (Thu, 14 Oct 2021) EllapsedTime: 102.9 seconds RetCode: 0 Status: OK PackageFile: AffyCompatible_1.52.0.tar.gz PackageFileSize: 321.5 KiB