Package: AffyCompatible Version: 1.52.0 Command: rm -rf AffyCompatible.buildbin-libdir && mkdir AffyCompatible.buildbin-libdir && C:\Users\biocbuild\bbs-3.13-bioc\R\bin\R.exe CMD INSTALL --merge-multiarch --build --library=AffyCompatible.buildbin-libdir AffyCompatible_1.52.0.tar.gz StartedAt: 2021-10-15 07:55:33 -0400 (Fri, 15 Oct 2021) EndedAt: 2021-10-15 07:57:10 -0400 (Fri, 15 Oct 2021) EllapsedTime: 97.3 seconds RetCode: 0 Status: OK PackageFile: AffyCompatible_1.52.0.zip PackageFileSize: 2.758 MiB