Package: AffyCompatible Version: 1.52.0 Command: /home/biocbuild/bbs-3.13-bioc/R/bin/R CMD INSTALL AffyCompatible StartedAt: 2021-10-14 06:08:18 -0400 (Thu, 14 Oct 2021) EndedAt: 2021-10-14 06:08:52 -0400 (Thu, 14 Oct 2021) EllapsedTime: 34.0 seconds RetCode: 0 Status: OK