Package: AffyCompatible Version: 1.52.0 Command: /Library/Frameworks/R.framework/Versions/Current/Resources/bin/R CMD check --install=check:AffyCompatible.install-out.txt --library=/Library/Frameworks/R.framework/Versions/Current/Resources/library --no-vignettes --timings AffyCompatible_1.52.0.tar.gz StartedAt: 2021-10-14 16:07:22 -0400 (Thu, 14 Oct 2021) EndedAt: 2021-10-14 16:09:42 -0400 (Thu, 14 Oct 2021) EllapsedTime: 139.3 seconds RetCode: 0 Status: OK CheckDir: AffyCompatible.Rcheck Warnings: 0