Package: AffyCompatible Version: 1.52.0 Command: rm -rf AffyCompatible.buildbin-libdir && mkdir AffyCompatible.buildbin-libdir && /Users/biocbuild/BBS/utils/build-universal.sh AffyCompatible_1.52.0.tar.gz /Library/Frameworks/R.framework/Versions/Current/Resources/bin/R AffyCompatible.buildbin-libdir StartedAt: 2021-10-15 01:31:41 -0400 (Fri, 15 Oct 2021) EndedAt: 2021-10-15 01:32:46 -0400 (Fri, 15 Oct 2021) EllapsedTime: 64.3 seconds RetCode: 0 Status: OK PackageFile: AffyCompatible_1.52.0.tgz PackageFileSize: 2.014 MiB