Package: AffiXcan Version: 1.10.0 Command: /home/biocbuild/bbs-3.13-bioc/R/bin/R CMD INSTALL AffiXcan StartedAt: 2021-10-14 06:17:25 -0400 (Thu, 14 Oct 2021) EndedAt: 2021-10-14 06:17:49 -0400 (Thu, 14 Oct 2021) EllapsedTime: 23.9 seconds RetCode: 0 Status: OK