Package: AffiXcan Version: 1.10.0 Command: /Library/Frameworks/R.framework/Versions/Current/Resources/bin/R CMD INSTALL AffiXcan StartedAt: 2021-10-14 09:33:44 -0400 (Thu, 14 Oct 2021) EndedAt: 2021-10-14 09:34:38 -0400 (Thu, 14 Oct 2021) EllapsedTime: 53.9 seconds RetCode: 0 Status: OK