Package: AffiXcan Version: 1.10.0 Command: /Library/Frameworks/R.framework/Versions/Current/Resources/bin/R CMD build --keep-empty-dirs --no-resave-data AffiXcan StartedAt: 2021-10-14 10:31:14 -0400 (Thu, 14 Oct 2021) EndedAt: 2021-10-14 10:32:22 -0400 (Thu, 14 Oct 2021) EllapsedTime: 67.5 seconds RetCode: 0 Status: OK PackageFile: AffiXcan_1.10.0.tar.gz PackageFileSize: 2.368 MiB