Package: AffiXcan Version: 1.10.0 Command: rm -rf AffiXcan.buildbin-libdir && mkdir AffiXcan.buildbin-libdir && /Users/biocbuild/BBS/utils/build-universal.sh AffiXcan_1.10.0.tar.gz /Library/Frameworks/R.framework/Versions/Current/Resources/bin/R AffiXcan.buildbin-libdir StartedAt: 2021-10-15 01:31:20 -0400 (Fri, 15 Oct 2021) EndedAt: 2021-10-15 01:32:30 -0400 (Fri, 15 Oct 2021) EllapsedTime: 69.2 seconds RetCode: 0 Status: OK PackageFile: AffiXcan_1.10.0.tgz PackageFileSize: 2.024 MiB