Package: AWFisher Version: 1.6.0 Command: chmod a+r AWFisher -R && C:\Users\biocbuild\bbs-3.13-bioc\R\bin\R.exe CMD build --keep-empty-dirs --no-resave-data AWFisher StartedAt: 2021-10-14 11:50:29 -0400 (Thu, 14 Oct 2021) EndedAt: 2021-10-14 11:51:13 -0400 (Thu, 14 Oct 2021) EllapsedTime: 43.9 seconds RetCode: 0 Status: OK PackageFile: AWFisher_1.6.0.tar.gz PackageFileSize: 1.342 MiB