Package: AWFisher Version: 1.6.0 Command: /home/biocbuild/bbs-3.13-bioc/R/bin/R CMD build --keep-empty-dirs --no-resave-data AWFisher StartedAt: 2021-10-14 06:43:29 -0400 (Thu, 14 Oct 2021) EndedAt: 2021-10-14 06:43:50 -0400 (Thu, 14 Oct 2021) EllapsedTime: 21.5 seconds RetCode: 0 Status: OK PackageFile: AWFisher_1.6.0.tar.gz PackageFileSize: 1.37 MiB