Package: AWFisher Version: 1.6.0 Command: /Library/Frameworks/R.framework/Versions/Current/Resources/bin/R CMD build --keep-empty-dirs --no-resave-data AWFisher StartedAt: 2021-10-14 10:40:45 -0400 (Thu, 14 Oct 2021) EndedAt: 2021-10-14 10:41:26 -0400 (Thu, 14 Oct 2021) EllapsedTime: 40.6 seconds RetCode: 0 Status: OK PackageFile: AWFisher_1.6.0.tar.gz PackageFileSize: 1.374 MiB