Package: ATACseqQC Version: 1.16.0 Command: /home/biocbuild/bbs-3.13-bioc/R/bin/R CMD build --keep-empty-dirs --no-resave-data ATACseqQC StartedAt: 2021-10-14 06:43:01 -0400 (Thu, 14 Oct 2021) EndedAt: 2021-10-14 06:46:47 -0400 (Thu, 14 Oct 2021) EllapsedTime: 225.9 seconds RetCode: 0 Status: OK PackageFile: ATACseqQC_1.16.0.tar.gz PackageFileSize: 13.07 MiB