Package: ASSIGN Version: 1.28.1 Command: rm -rf ASSIGN.buildbin-libdir && mkdir ASSIGN.buildbin-libdir && /Users/biocbuild/BBS/utils/build-universal.sh ASSIGN_1.28.1.tar.gz /Library/Frameworks/R.framework/Versions/Current/Resources/bin/R ASSIGN.buildbin-libdir StartedAt: 2021-10-15 01:37:38 -0400 (Fri, 15 Oct 2021) EndedAt: 2021-10-15 01:38:48 -0400 (Fri, 15 Oct 2021) EllapsedTime: 70.6 seconds RetCode: 0 Status: OK PackageFile: ASSIGN_1.28.1.tgz PackageFileSize: 1.656 MiB