Package: ASSET Version: 2.10.1 Command: /home/biocbuild/bbs-3.13-bioc/R/bin/R CMD build --keep-empty-dirs --no-resave-data ASSET StartedAt: 2021-10-14 06:42:57 -0400 (Thu, 14 Oct 2021) EndedAt: 2021-10-14 06:43:08 -0400 (Thu, 14 Oct 2021) EllapsedTime: 11.6 seconds RetCode: 0 Status: OK PackageFile: ASSET_2.10.1.tar.gz PackageFileSize: 224.3 KiB