Package: ANF Version: 1.14.0 Command: /home/biocbuild/bbs-3.13-bioc/R/bin/R CMD check --install=check:ANF.install-out.txt --library=/home/biocbuild/bbs-3.13-bioc/R/library --no-vignettes --timings ANF_1.14.0.tar.gz StartedAt: 2021-10-14 08:51:10 -0400 (Thu, 14 Oct 2021) EndedAt: 2021-10-14 08:52:55 -0400 (Thu, 14 Oct 2021) EllapsedTime: 105.3 seconds RetCode: 0 Status: OK CheckDir: ANF.Rcheck Warnings: 0