Package: ANF Version: 1.14.0 Command: /home/biocbuild/bbs-3.13-bioc/R/bin/R CMD build --keep-empty-dirs --no-resave-data ANF StartedAt: 2021-10-14 06:41:27 -0400 (Thu, 14 Oct 2021) EndedAt: 2021-10-14 06:49:26 -0400 (Thu, 14 Oct 2021) EllapsedTime: 478.4 seconds RetCode: 0 Status: OK PackageFile: ANF_1.14.0.tar.gz PackageFileSize: 683 KiB