Package: AMARETTO Version: 1.8.0 Command: rm -rf AMARETTO.buildbin-libdir && mkdir AMARETTO.buildbin-libdir && C:\Users\biocbuild\bbs-3.13-bioc\R\bin\R.exe CMD INSTALL --merge-multiarch --build --library=AMARETTO.buildbin-libdir AMARETTO_1.8.0.tar.gz StartedAt: 2021-10-15 07:58:39 -0400 (Fri, 15 Oct 2021) EndedAt: 2021-10-15 07:59:54 -0400 (Fri, 15 Oct 2021) EllapsedTime: 74.8 seconds RetCode: 0 Status: OK PackageFile: AMARETTO_1.8.0.zip PackageFileSize: 3.481 MiB