Package: AMARETTO Version: 1.8.0 Command: /home/biocbuild/bbs-3.13-bioc/R/bin/R CMD INSTALL AMARETTO StartedAt: 2021-10-14 06:30:53 -0400 (Thu, 14 Oct 2021) EndedAt: 2021-10-14 06:31:22 -0400 (Thu, 14 Oct 2021) EllapsedTime: 28.4 seconds RetCode: 0 Status: OK