Package: AMARETTO Version: 1.8.0 Command: /home/biocbuild/bbs-3.13-bioc/R/bin/R CMD build --keep-empty-dirs --no-resave-data AMARETTO StartedAt: 2021-10-14 06:41:13 -0400 (Thu, 14 Oct 2021) EndedAt: 2021-10-14 06:41:55 -0400 (Thu, 14 Oct 2021) EllapsedTime: 42.3 seconds RetCode: 0 Status: OK PackageFile: AMARETTO_1.8.0.tar.gz PackageFileSize: 3.182 MiB