Package: AMARETTO Version: 1.8.0 Command: rm -rf AMARETTO.buildbin-libdir && mkdir AMARETTO.buildbin-libdir && /Users/biocbuild/BBS/utils/build-universal.sh AMARETTO_1.8.0.tar.gz /Library/Frameworks/R.framework/Versions/Current/Resources/bin/R AMARETTO.buildbin-libdir StartedAt: 2021-10-15 01:33:42 -0400 (Fri, 15 Oct 2021) EndedAt: 2021-10-15 01:34:52 -0400 (Fri, 15 Oct 2021) EllapsedTime: 69.9 seconds RetCode: 0 Status: OK PackageFile: AMARETTO_1.8.0.tgz PackageFileSize: 3.455 MiB