Package: ADAMgui Version: 1.8.0 Command: rm -rf ADAMgui.buildbin-libdir && mkdir ADAMgui.buildbin-libdir && C:\Users\biocbuild\bbs-3.13-bioc\R\bin\R.exe CMD INSTALL --merge-multiarch --build --library=ADAMgui.buildbin-libdir ADAMgui_1.8.0.tar.gz StartedAt: 2021-10-15 07:54:19 -0400 (Fri, 15 Oct 2021) EndedAt: 2021-10-15 07:55:13 -0400 (Fri, 15 Oct 2021) EllapsedTime: 53.8 seconds RetCode: 0 Status: OK PackageFile: ADAMgui_1.8.0.zip PackageFileSize: 1.106 MiB