Package: ADAMgui Version: 1.8.0 Command: /home/biocbuild/bbs-3.13-bioc/R/bin/R CMD INSTALL ADAMgui StartedAt: 2021-10-14 06:32:59 -0400 (Thu, 14 Oct 2021) EndedAt: 2021-10-14 06:33:23 -0400 (Thu, 14 Oct 2021) EllapsedTime: 24.2 seconds RetCode: 0 Status: OK