Package: ABarray Version: 1.60.0 Command: /Library/Frameworks/R.framework/Versions/Current/Resources/bin/R CMD check --install=check:ABarray.install-out.txt --library=/Library/Frameworks/R.framework/Versions/Current/Resources/library --no-vignettes --timings ABarray_1.60.0.tar.gz StartedAt: 2021-10-14 16:05:29 -0400 (Thu, 14 Oct 2021) EndedAt: 2021-10-14 16:06:55 -0400 (Thu, 14 Oct 2021) EllapsedTime: 86.5 seconds RetCode: 0 Status: OK CheckDir: ABarray.Rcheck Warnings: 0