Package: ABAEnrichment Version: 1.22.0 Command: rm -rf ABAEnrichment.buildbin-libdir && mkdir ABAEnrichment.buildbin-libdir && C:\Users\biocbuild\bbs-3.13-bioc\R\bin\R.exe CMD INSTALL --merge-multiarch --build --library=ABAEnrichment.buildbin-libdir ABAEnrichment_1.22.0.tar.gz StartedAt: 2021-10-15 07:53:23 -0400 (Fri, 15 Oct 2021) EndedAt: 2021-10-15 07:56:38 -0400 (Fri, 15 Oct 2021) EllapsedTime: 195.0 seconds RetCode: 0 Status: OK PackageFile: ABAEnrichment_1.22.0.zip PackageFileSize: 3.769 MiB