Package: ABAEnrichment Version: 1.22.0 Command: /home/biocbuild/bbs-3.13-bioc/R/bin/R CMD build --keep-empty-dirs --no-resave-data ABAEnrichment StartedAt: 2021-10-14 06:40:21 -0400 (Thu, 14 Oct 2021) EndedAt: 2021-10-14 06:41:26 -0400 (Thu, 14 Oct 2021) EllapsedTime: 64.7 seconds RetCode: 0 Status: OK PackageFile: ABAEnrichment_1.22.0.tar.gz PackageFileSize: 4.511 MiB