Package: ABAEnrichment Version: 1.22.0 Command: /Library/Frameworks/R.framework/Versions/Current/Resources/bin/R CMD INSTALL ABAEnrichment StartedAt: 2021-10-14 08:47:24 -0400 (Thu, 14 Oct 2021) EndedAt: 2021-10-14 08:48:25 -0400 (Thu, 14 Oct 2021) EllapsedTime: 60.9 seconds RetCode: 0 Status: OK