| Back to Workflows build report for BioC 3.12 | 
This page was generated on 2021-05-07 15:45:15 -0400 (Fri, 07 May 2021).
| Package 9/28 | Hostname | OS / Arch | INSTALL | BUILD | ||||||||
| EGSEA123 1.14.1  (landing page) Matthew Ritchie 
  | malbec1 | Linux (Ubuntu 18.04.5 LTS) / x86_64 | OK | OK | ||||||||