Back to Books build report for BioC 3.12 |
This page was generated on 2021-05-05 15:35:02 -0400 (Wed, 05 May 2021).
LibPath Version Built abind /home/biocbuild/bbs-3.12-books/R/library 1.4-5 4.0.4 annotate /home/biocbuild/bbs-3.12-books/R/library 1.68.0 4.0.4 AnnotationDbi /home/biocbuild/bbs-3.12-books/R/library 1.52.0 4.0.4 AnnotationFilter /home/biocbuild/bbs-3.12-books/R/library 1.14.0 4.0.4 AnnotationHub /home/biocbuild/bbs-3.12-books/R/library 2.22.0 4.0.4 ape /home/biocbuild/bbs-3.12-books/R/library 5.4-1 4.0.4 askpass /home/biocbuild/bbs-3.12-books/R/library 1.1 4.0.4 assertthat /home/biocbuild/bbs-3.12-books/R/library 0.2.1 4.0.4 AUCell /home/biocbuild/bbs-3.12-books/R/library 1.12.0 4.0.4 backports /home/biocbuild/bbs-3.12-books/R/library 1.2.1 4.0.4 base /home/biocbuild/bbs-3.12-books/R/library 4.0.4 4.0.4 base64enc /home/biocbuild/bbs-3.12-books/R/library 0.1-3 4.0.4 basilisk /home/biocbuild/bbs-3.12-books/R/library 1.2.1 4.0.4 basilisk.utils /home/biocbuild/bbs-3.12-books/R/library 1.2.2 4.0.4 batchelor /home/biocbuild/bbs-3.12-books/R/library 1.6.2 4.0.4 beachmat /home/biocbuild/bbs-3.12-books/R/library 2.6.4 4.0.4 beeswarm /home/biocbuild/bbs-3.12-books/R/library 0.3.1 4.0.4 BH /home/biocbuild/bbs-3.12-books/R/library 1.75.0-0 4.0.4 Biobase /home/biocbuild/bbs-3.12-books/R/library 2.50.0 4.0.4 BiocFileCache /home/biocbuild/bbs-3.12-books/R/library 1.14.0 4.0.4 BiocGenerics /home/biocbuild/bbs-3.12-books/R/library 0.36.0 4.0.4 BiocManager /home/biocbuild/bbs-3.12-books/R/library 1.30.10 4.0.4 BiocNeighbors /home/biocbuild/bbs-3.12-books/R/library 1.8.2 4.0.4 BiocParallel /home/biocbuild/bbs-3.12-books/R/library 1.24.1 4.0.4 BiocSingular /home/biocbuild/bbs-3.12-books/R/library 1.6.0 4.0.4 BiocStyle /home/biocbuild/bbs-3.12-books/R/library 2.18.1 4.0.4 BiocVersion /home/biocbuild/bbs-3.12-books/R/library 3.12.0 4.0.4 biocViews /home/biocbuild/bbs-3.12-books/R/library 1.58.1 4.0.4 biomaRt /home/biocbuild/bbs-3.12-books/R/library 2.46.3 4.0.4 Biostrings /home/biocbuild/bbs-3.12-books/R/library 2.58.0 4.0.4 bit /home/biocbuild/bbs-3.12-books/R/library 4.0.4 4.0.4 bit64 /home/biocbuild/bbs-3.12-books/R/library 4.0.5 4.0.4 bitops /home/biocbuild/bbs-3.12-books/R/library 1.0-6 4.0.4 blob /home/biocbuild/bbs-3.12-books/R/library 1.2.1 4.0.4 bluster /home/biocbuild/bbs-3.12-books/R/library 1.0.0 4.0.4 bookdown /home/biocbuild/bbs-3.12-books/R/library 0.21 4.0.4 boot /home/biocbuild/bbs-3.12-books/R/library 1.3-26 4.0.4 bslib /home/biocbuild/bbs-3.12-books/R/library 0.2.4 4.0.4 cachem /home/biocbuild/bbs-3.12-books/R/library 1.0.4 4.0.4 Cairo /home/biocbuild/bbs-3.12-books/R/library 1.5-12.2 4.0.4 callr /home/biocbuild/bbs-3.12-books/R/library 3.5.1 4.0.4 caTools /home/biocbuild/bbs-3.12-books/R/library 1.18.1 4.0.4 celldex /home/biocbuild/bbs-3.12-books/R/library 1.0.0 4.0.4 checkmate /home/biocbuild/bbs-3.12-books/R/library 2.0.0 4.0.4 circlize /home/biocbuild/bbs-3.12-books/R/library 0.4.12 4.0.4 class /home/biocbuild/bbs-3.12-books/R/library 7.3-18 4.0.4 cli /home/biocbuild/bbs-3.12-books/R/library 2.3.1 4.0.4 clue /home/biocbuild/bbs-3.12-books/R/library 0.3-58 4.0.4 cluster /home/biocbuild/bbs-3.12-books/R/library 2.1.0 4.0.4 clustree /home/biocbuild/bbs-3.12-books/R/library 0.4.3 4.0.4 CodeDepends /home/biocbuild/bbs-3.12-books/R/library 0.6.5 4.0.4 codetools /home/biocbuild/bbs-3.12-books/R/library 0.2-18 4.0.4 colorspace /home/biocbuild/bbs-3.12-books/R/library 2.0-0 4.0.4 colourpicker /home/biocbuild/bbs-3.12-books/R/library 1.1.0 4.0.4 combinat /home/biocbuild/bbs-3.12-books/R/library 0.0-8 4.0.4 commonmark /home/biocbuild/bbs-3.12-books/R/library 1.7 4.0.4 compiler /home/biocbuild/bbs-3.12-books/R/library 4.0.4 4.0.4 ComplexHeatmap /home/biocbuild/bbs-3.12-books/R/library 2.6.2 4.0.4 coop /home/biocbuild/bbs-3.12-books/R/library 0.6-2 4.0.4 corral /home/biocbuild/bbs-3.12-books/R/library 1.0.0 4.0.4 cowplot /home/biocbuild/bbs-3.12-books/R/library 1.1.1 4.0.4 cpp11 /home/biocbuild/bbs-3.12-books/R/library 0.2.6 4.0.4 crayon /home/biocbuild/bbs-3.12-books/R/library 1.4.1 4.0.4 crosstalk /home/biocbuild/bbs-3.12-books/R/library 1.1.1 4.0.4 curl /home/biocbuild/bbs-3.12-books/R/library 4.3 4.0.4 data.table /home/biocbuild/bbs-3.12-books/R/library 1.14.0 4.0.4 datasets /home/biocbuild/bbs-3.12-books/R/library 4.0.4 4.0.4 DBI /home/biocbuild/bbs-3.12-books/R/library 1.1.1 4.0.4 dbplyr /home/biocbuild/bbs-3.12-books/R/library 2.1.0 4.0.4 DDRTree /home/biocbuild/bbs-3.12-books/R/library 0.1.5 4.0.4 DelayedArray /home/biocbuild/bbs-3.12-books/R/library 0.16.2 4.0.4 DelayedMatrixStats /home/biocbuild/bbs-3.12-books/R/library 1.12.3 4.0.4 dendextend /home/biocbuild/bbs-3.12-books/R/library 1.14.0 4.0.4 densityClust /home/biocbuild/bbs-3.12-books/R/library 0.3 4.0.4 DEoptimR /home/biocbuild/bbs-3.12-books/R/library 1.0-8 4.0.4 dichromat /home/biocbuild/bbs-3.12-books/R/library 2.0-0 4.0.4 digest /home/biocbuild/bbs-3.12-books/R/library 0.6.27 4.0.4 docopt /home/biocbuild/bbs-3.12-books/R/library 0.7.1 4.0.4 dplyr /home/biocbuild/bbs-3.12-books/R/library 1.0.5 4.0.4 dqrng /home/biocbuild/bbs-3.12-books/R/library 0.2.1 4.0.4 DropletTestFiles /home/biocbuild/bbs-3.12-books/R/library 1.0.0 4.0.4 DropletUtils /home/biocbuild/bbs-3.12-books/R/library 1.10.3 4.0.4 DT /home/biocbuild/bbs-3.12-books/R/library 0.17 4.0.4 dynamicTreeCut /home/biocbuild/bbs-3.12-books/R/library 1.63-1 4.0.4 edgeR /home/biocbuild/bbs-3.12-books/R/library 3.32.1 4.0.4 elasticnet /home/biocbuild/bbs-3.12-books/R/library 1.3 4.0.4 ellipsis /home/biocbuild/bbs-3.12-books/R/library 0.3.1 4.0.4 EnsDb.Hsapiens.v86 /home/biocbuild/bbs-3.12-books/R/library 2.99.0 4.0.4 ensembldb /home/biocbuild/bbs-3.12-books/R/library 2.14.0 4.0.4 evaluate /home/biocbuild/bbs-3.12-books/R/library 0.14 4.0.4 ExperimentHub /home/biocbuild/bbs-3.12-books/R/library 1.16.0 4.0.4 fansi /home/biocbuild/bbs-3.12-books/R/library 0.4.2 4.0.4 farver /home/biocbuild/bbs-3.12-books/R/library 2.1.0 4.0.4 fastICA /home/biocbuild/bbs-3.12-books/R/library 1.2-2 4.0.4 fastmap /home/biocbuild/bbs-3.12-books/R/library 1.1.0 4.0.4 filelock /home/biocbuild/bbs-3.12-books/R/library 1.0.2 4.0.4 FNN /home/biocbuild/bbs-3.12-books/R/library 1.1.3 4.0.4 foreign /home/biocbuild/bbs-3.12-books/R/library 0.8-81 4.0.4 formatR /home/biocbuild/bbs-3.12-books/R/library 1.8 4.0.4 fs /home/biocbuild/bbs-3.12-books/R/library 1.5.0 4.0.4 futile.logger /home/biocbuild/bbs-3.12-books/R/library 1.4.3 4.0.4 futile.options /home/biocbuild/bbs-3.12-books/R/library 1.0.1 4.0.4 future /home/biocbuild/bbs-3.12-books/R/library 1.21.0 4.0.4 future.apply /home/biocbuild/bbs-3.12-books/R/library 1.7.0 4.0.4 generics /home/biocbuild/bbs-3.12-books/R/library 0.1.0 4.0.4 GenomeInfoDb /home/biocbuild/bbs-3.12-books/R/library 1.26.4 4.0.4 GenomeInfoDbData /home/biocbuild/bbs-3.12-books/R/library 1.2.4 4.0.4 GenomicAlignments /home/biocbuild/bbs-3.12-books/R/library 1.26.0 4.0.4 GenomicFeatures /home/biocbuild/bbs-3.12-books/R/library 1.42.2 4.0.4 GenomicRanges /home/biocbuild/bbs-3.12-books/R/library 1.42.0 4.0.4 GetoptLong /home/biocbuild/bbs-3.12-books/R/library 1.0.5 4.0.4 ggbeeswarm /home/biocbuild/bbs-3.12-books/R/library 0.6.0 4.0.4 ggforce /home/biocbuild/bbs-3.12-books/R/library 0.3.3 4.0.4 ggplot2 /home/biocbuild/bbs-3.12-books/R/library 3.3.3 4.0.4 ggraph /home/biocbuild/bbs-3.12-books/R/library 2.0.5 4.0.4 ggrepel /home/biocbuild/bbs-3.12-books/R/library 0.9.1 4.0.4 ggthemes /home/biocbuild/bbs-3.12-books/R/library 4.2.4 4.0.4 GlobalOptions /home/biocbuild/bbs-3.12-books/R/library 0.1.2 4.0.4 globals /home/biocbuild/bbs-3.12-books/R/library 0.14.0 4.0.4 glue /home/biocbuild/bbs-3.12-books/R/library 1.4.2 4.0.4 GO.db /home/biocbuild/bbs-3.12-books/R/library 3.12.1 4.0.4 gplots /home/biocbuild/bbs-3.12-books/R/library 3.1.1 4.0.4 graph /home/biocbuild/bbs-3.12-books/R/library 1.68.0 4.0.4 graphics /home/biocbuild/bbs-3.12-books/R/library 4.0.4 4.0.4 graphlayouts /home/biocbuild/bbs-3.12-books/R/library 0.7.1 4.0.4 grDevices /home/biocbuild/bbs-3.12-books/R/library 4.0.4 4.0.4 grid /home/biocbuild/bbs-3.12-books/R/library 4.0.4 4.0.4 gridExtra /home/biocbuild/bbs-3.12-books/R/library 2.3 4.0.4 GSEABase /home/biocbuild/bbs-3.12-books/R/library 1.52.1 4.0.4 gtable /home/biocbuild/bbs-3.12-books/R/library 0.3.0 4.0.4 gtools /home/biocbuild/bbs-3.12-books/R/library 3.8.2 4.0.4 HCAData /home/biocbuild/bbs-3.12-books/R/library 1.6.0 4.0.4 HDF5Array /home/biocbuild/bbs-3.12-books/R/library 1.18.1 4.0.4 highr /home/biocbuild/bbs-3.12-books/R/library 0.8 4.0.4 hms /home/biocbuild/bbs-3.12-books/R/library 1.0.0 4.0.4 HSMMSingleCell /home/biocbuild/bbs-3.12-books/R/library 1.10.0 4.0.4 htmltools /home/biocbuild/bbs-3.12-books/R/library 0.5.1.1 4.0.4 htmlwidgets /home/biocbuild/bbs-3.12-books/R/library 1.5.3 4.0.4 httpuv /home/biocbuild/bbs-3.12-books/R/library 1.5.5 4.0.4 httr /home/biocbuild/bbs-3.12-books/R/library 1.4.2 4.0.4 igraph /home/biocbuild/bbs-3.12-books/R/library 1.2.6 4.0.4 interactiveDisplayBase /home/biocbuild/bbs-3.12-books/R/library 1.28.0 4.0.4 IRanges /home/biocbuild/bbs-3.12-books/R/library 2.24.1 4.0.4 irlba /home/biocbuild/bbs-3.12-books/R/library 2.3.3 4.0.4 iSEE /home/biocbuild/bbs-3.12-books/R/library 2.2.4 4.0.4 isoband /home/biocbuild/bbs-3.12-books/R/library 0.2.4 4.0.4 jquerylib /home/biocbuild/bbs-3.12-books/R/library 0.1.3 4.0.4 jsonlite /home/biocbuild/bbs-3.12-books/R/library 1.7.2 4.0.4 kernlab /home/biocbuild/bbs-3.12-books/R/library 0.9-29 4.0.4 KernSmooth /home/biocbuild/bbs-3.12-books/R/library 2.23-18 4.0.4 knitr /home/biocbuild/bbs-3.12-books/R/library 1.31 4.0.4 labeling /home/biocbuild/bbs-3.12-books/R/library 0.4.2 4.0.4 lambda.r /home/biocbuild/bbs-3.12-books/R/library 1.2.4 4.0.4 lars /home/biocbuild/bbs-3.12-books/R/library 1.2 4.0.4 later /home/biocbuild/bbs-3.12-books/R/library 1.1.0.1 4.0.4 lattice /home/biocbuild/bbs-3.12-books/R/library 0.20-41 4.0.4 lazyeval /home/biocbuild/bbs-3.12-books/R/library 0.2.2 4.0.4 lifecycle /home/biocbuild/bbs-3.12-books/R/library 1.0.0 4.0.4 limma /home/biocbuild/bbs-3.12-books/R/library 3.46.0 4.0.4 listenv /home/biocbuild/bbs-3.12-books/R/library 0.8.0 4.0.4 locfit /home/biocbuild/bbs-3.12-books/R/library 1.5-9.4 4.0.4 magrittr /home/biocbuild/bbs-3.12-books/R/library 2.0.1 4.0.4 mapproj /home/biocbuild/bbs-3.12-books/R/library 1.2.7 4.0.4 maps /home/biocbuild/bbs-3.12-books/R/library 3.3.0 4.0.4 markdown /home/biocbuild/bbs-3.12-books/R/library 1.1 4.0.4 MASS /home/biocbuild/bbs-3.12-books/R/library 7.3-53 4.0.4 Matrix /home/biocbuild/bbs-3.12-books/R/library 1.3-2 4.0.4 MatrixGenerics /home/biocbuild/bbs-3.12-books/R/library 1.2.1 4.0.4 matrixStats /home/biocbuild/bbs-3.12-books/R/library 0.58.0 4.0.4 mclust /home/biocbuild/bbs-3.12-books/R/library 5.4.7 4.0.4 memoise /home/biocbuild/bbs-3.12-books/R/library 2.0.0 4.0.4 methods /home/biocbuild/bbs-3.12-books/R/library 4.0.4 4.0.4 mgcv /home/biocbuild/bbs-3.12-books/R/library 1.8-33 4.0.4 mime /home/biocbuild/bbs-3.12-books/R/library 0.10 4.0.4 miniUI /home/biocbuild/bbs-3.12-books/R/library 0.1.1.1 4.0.4 mixtools /home/biocbuild/bbs-3.12-books/R/library 1.2.0 4.0.4 monocle /home/biocbuild/bbs-3.12-books/R/library 2.18.0 4.0.4 MouseGastrulationData /home/biocbuild/bbs-3.12-books/R/library 1.4.0 4.0.4 msigdbr /home/biocbuild/bbs-3.12-books/R/library 7.2.1 4.0.4 MultiAssayExperiment /home/biocbuild/bbs-3.12-books/R/library 1.16.0 4.0.4 munsell /home/biocbuild/bbs-3.12-books/R/library 0.5.0 4.0.4 nlme /home/biocbuild/bbs-3.12-books/R/library 3.1-152 4.0.4 nnet /home/biocbuild/bbs-3.12-books/R/library 7.3-15 4.0.4 ontologyIndex /home/biocbuild/bbs-3.12-books/R/library 2.7 4.0.4 ontologyPlot /home/biocbuild/bbs-3.12-books/R/library 1.6 4.0.4 ontoProc /home/biocbuild/bbs-3.12-books/R/library 1.12.0 4.0.4 openssl /home/biocbuild/bbs-3.12-books/R/library 1.4.3 4.0.4 org.Hs.eg.db /home/biocbuild/bbs-3.12-books/R/library 3.12.0 4.0.4 org.Mm.eg.db /home/biocbuild/bbs-3.12-books/R/library 3.12.0 4.0.4 origami /home/biocbuild/bbs-3.12-books/R/library 1.0.3 4.0.4 OSCA /home/biocbuild/bbs-3.12-books/R/library 1.0.6 4.0.4 paintmap /home/biocbuild/bbs-3.12-books/R/library 1.0 4.0.4 pals /home/biocbuild/bbs-3.12-books/R/library 1.6 4.0.4 parallel /home/biocbuild/bbs-3.12-books/R/library 4.0.4 4.0.4 parallelly /home/biocbuild/bbs-3.12-books/R/library 1.24.0 4.0.4 pbapply /home/biocbuild/bbs-3.12-books/R/library 1.4-3 4.0.4 PCAtools /home/biocbuild/bbs-3.12-books/R/library 2.2.0 4.0.4 pheatmap /home/biocbuild/bbs-3.12-books/R/library 1.0.12 4.0.4 pillar /home/biocbuild/bbs-3.12-books/R/library 1.5.1 4.0.4 pkgconfig /home/biocbuild/bbs-3.12-books/R/library 2.0.3 4.0.4 plogr /home/biocbuild/bbs-3.12-books/R/library 0.2.0 4.0.4 plyr /home/biocbuild/bbs-3.12-books/R/library 1.8.6 4.0.4 png /home/biocbuild/bbs-3.12-books/R/library 0.1-7 4.0.4 polyclip /home/biocbuild/bbs-3.12-books/R/library 1.10-0 4.0.4 prettyunits /home/biocbuild/bbs-3.12-books/R/library 1.1.1 4.0.4 princurve /home/biocbuild/bbs-3.12-books/R/library 2.1.6 4.0.4 processx /home/biocbuild/bbs-3.12-books/R/library 3.4.5 4.0.4 progress /home/biocbuild/bbs-3.12-books/R/library 1.2.2 4.0.4 promises /home/biocbuild/bbs-3.12-books/R/library 1.2.0.1 4.0.4 ProtGenerics /home/biocbuild/bbs-3.12-books/R/library 1.22.0 4.0.4 proxy /home/biocbuild/bbs-3.12-books/R/library 0.4-25 4.0.4 ps /home/biocbuild/bbs-3.12-books/R/library 1.6.0 4.0.4 purrr /home/biocbuild/bbs-3.12-books/R/library 0.3.4 4.0.4 qlcMatrix /home/biocbuild/bbs-3.12-books/R/library 0.9.7 4.0.4 R.methodsS3 /home/biocbuild/bbs-3.12-books/R/library 1.8.1 4.0.4 R.oo /home/biocbuild/bbs-3.12-books/R/library 1.24.0 4.0.4 R.utils /home/biocbuild/bbs-3.12-books/R/library 2.10.1 4.0.4 R6 /home/biocbuild/bbs-3.12-books/R/library 2.5.0 4.0.4 RANN /home/biocbuild/bbs-3.12-books/R/library 2.6.1 4.0.4 rappdirs /home/biocbuild/bbs-3.12-books/R/library 0.3.3 4.0.4 RBGL /home/biocbuild/bbs-3.12-books/R/library 1.66.0 4.0.4 rbibutils /home/biocbuild/bbs-3.12-books/R/library 2.0 4.0.4 RColorBrewer /home/biocbuild/bbs-3.12-books/R/library 1.1-2 4.0.4 Rcpp /home/biocbuild/bbs-3.12-books/R/library 1.0.6 4.0.4 RcppAnnoy /home/biocbuild/bbs-3.12-books/R/library 0.0.18 4.0.4 RcppArmadillo /home/biocbuild/bbs-3.12-books/R/library 0.10.2.2.0 4.0.4 RcppEigen /home/biocbuild/bbs-3.12-books/R/library 0.3.3.9.1 4.0.4 RcppHNSW /home/biocbuild/bbs-3.12-books/R/library 0.3.0 4.0.4 RcppProgress /home/biocbuild/bbs-3.12-books/R/library 0.4.2 4.0.4 RCurl /home/biocbuild/bbs-3.12-books/R/library 1.98-1.3 4.0.4 Rdpack /home/biocbuild/bbs-3.12-books/R/library 2.1.1 4.0.4 rebook /home/biocbuild/bbs-3.12-books/R/library 1.0.0 4.0.4 reshape2 /home/biocbuild/bbs-3.12-books/R/library 1.4.4 4.0.4 ResidualMatrix /home/biocbuild/bbs-3.12-books/R/library 1.0.0 4.0.4 reticulate /home/biocbuild/bbs-3.12-books/R/library 1.18 4.0.4 Rgraphviz /home/biocbuild/bbs-3.12-books/R/library 2.34.0 4.0.4 rhdf5 /home/biocbuild/bbs-3.12-books/R/library 2.34.0 4.0.4 rhdf5filters /home/biocbuild/bbs-3.12-books/R/library 1.2.0 4.0.4 Rhdf5lib /home/biocbuild/bbs-3.12-books/R/library 1.12.1 4.0.4 Rhtslib /home/biocbuild/bbs-3.12-books/R/library 1.22.0 4.0.4 rintrojs /home/biocbuild/bbs-3.12-books/R/library 0.2.2 4.0.4 rjson /home/biocbuild/bbs-3.12-books/R/library 0.2.20 4.0.4 rlang /home/biocbuild/bbs-3.12-books/R/library 0.4.10 4.0.4 rmarkdown /home/biocbuild/bbs-3.12-books/R/library 2.7 4.0.4 RMTstat /home/biocbuild/bbs-3.12-books/R/library 0.3 4.0.4 robustbase /home/biocbuild/bbs-3.12-books/R/library 0.93-7 4.0.4 rpart /home/biocbuild/bbs-3.12-books/R/library 4.1-15 4.0.4 Rsamtools /home/biocbuild/bbs-3.12-books/R/library 2.6.0 4.0.4 RSpectra /home/biocbuild/bbs-3.12-books/R/library 0.16-0 4.0.4 RSQLite /home/biocbuild/bbs-3.12-books/R/library 2.2.4 4.0.4 rsvd /home/biocbuild/bbs-3.12-books/R/library 1.0.3 4.0.4 rtracklayer /home/biocbuild/bbs-3.12-books/R/library 1.50.0 4.0.4 Rtsne /home/biocbuild/bbs-3.12-books/R/library 0.15 4.0.4 RUnit /home/biocbuild/bbs-3.12-books/R/library 0.4.32 4.0.4 S4Vectors /home/biocbuild/bbs-3.12-books/R/library 0.28.1 4.0.4 sass /home/biocbuild/bbs-3.12-books/R/library 0.3.1 4.0.4 scales /home/biocbuild/bbs-3.12-books/R/library 1.1.1 4.0.4 scater /home/biocbuild/bbs-3.12-books/R/library 1.18.6 4.0.4 scDblFinder /home/biocbuild/bbs-3.12-books/R/library 1.4.0 4.0.4 scPCA /home/biocbuild/bbs-3.12-books/R/library 1.4.0 4.0.4 scran /home/biocbuild/bbs-3.12-books/R/library 1.18.5 4.0.4 scRNAseq /home/biocbuild/bbs-3.12-books/R/library 2.4.0 4.0.4 scuttle /home/biocbuild/bbs-3.12-books/R/library 1.0.4 4.0.4 segmented /home/biocbuild/bbs-3.12-books/R/library 1.3-3 4.0.4 shape /home/biocbuild/bbs-3.12-books/R/library 1.4.5 4.0.4 shiny /home/biocbuild/bbs-3.12-books/R/library 1.6.0 4.0.4 shinyAce /home/biocbuild/bbs-3.12-books/R/library 0.4.1 4.0.4 shinydashboard /home/biocbuild/bbs-3.12-books/R/library 0.7.1 4.0.4 shinyjs /home/biocbuild/bbs-3.12-books/R/library 2.0.0 4.0.4 shinyWidgets /home/biocbuild/bbs-3.12-books/R/library 0.6.0 4.0.4 SingleCellExperiment /home/biocbuild/bbs-3.12-books/R/library 1.12.0 4.0.4 SingleR /home/biocbuild/bbs-3.12-books/R/library 1.4.1 4.0.4 SingleRBook /home/biocbuild/bbs-3.12-books/R/library 1.0.0 4.0.4 sitmo /home/biocbuild/bbs-3.12-books/R/library 2.0.1 4.0.4 slam /home/biocbuild/bbs-3.12-books/R/library 0.1-48 4.0.4 slingshot /home/biocbuild/bbs-3.12-books/R/library 1.8.0 4.0.4 snow /home/biocbuild/bbs-3.12-books/R/library 0.4-3 4.0.4 sourcetools /home/biocbuild/bbs-3.12-books/R/library 0.1.7 4.0.4 sparseMatrixStats /home/biocbuild/bbs-3.12-books/R/library 1.2.1 4.0.4 sparsepca /home/biocbuild/bbs-3.12-books/R/library 0.1.2 4.0.4 sparsesvd /home/biocbuild/bbs-3.12-books/R/library 0.2 4.0.4 spatial /home/biocbuild/bbs-3.12-books/R/library 7.3-13 4.0.4 splines /home/biocbuild/bbs-3.12-books/R/library 4.0.4 4.0.4 statmod /home/biocbuild/bbs-3.12-books/R/library 1.4.35 4.0.4 stats /home/biocbuild/bbs-3.12-books/R/library 4.0.4 4.0.4 stats4 /home/biocbuild/bbs-3.12-books/R/library 4.0.4 4.0.4 stringi /home/biocbuild/bbs-3.12-books/R/library 1.5.3 4.0.4 stringr /home/biocbuild/bbs-3.12-books/R/library 1.4.0 4.0.4 SummarizedExperiment /home/biocbuild/bbs-3.12-books/R/library 1.20.0 4.0.4 survival /home/biocbuild/bbs-3.12-books/R/library 3.2-7 4.0.4 sys /home/biocbuild/bbs-3.12-books/R/library 3.4 4.0.4 tcltk /home/biocbuild/bbs-3.12-books/R/library 4.0.4 4.0.4 TENxBrainData /home/biocbuild/bbs-3.12-books/R/library 1.10.0 4.0.4 TENxPBMCData /home/biocbuild/bbs-3.12-books/R/library 1.8.0 4.0.4 tibble /home/biocbuild/bbs-3.12-books/R/library 3.1.0 4.0.4 tidygraph /home/biocbuild/bbs-3.12-books/R/library 1.2.0 4.0.4 tidyr /home/biocbuild/bbs-3.12-books/R/library 1.1.3 4.0.4 tidyselect /home/biocbuild/bbs-3.12-books/R/library 1.1.0 4.0.4 tinytex /home/biocbuild/bbs-3.12-books/R/library 0.30 4.0.4 tools /home/biocbuild/bbs-3.12-books/R/library 4.0.4 4.0.4 tradeSeq /home/biocbuild/bbs-3.12-books/R/library 1.4.0 4.0.4 transport /home/biocbuild/bbs-3.12-books/R/library 0.12-2 4.0.4 TSCAN /home/biocbuild/bbs-3.12-books/R/library 1.28.0 4.0.4 tweenr /home/biocbuild/bbs-3.12-books/R/library 1.0.1 4.0.4 utf8 /home/biocbuild/bbs-3.12-books/R/library 1.2.1 4.0.4 utils /home/biocbuild/bbs-3.12-books/R/library 4.0.4 4.0.4 uwot /home/biocbuild/bbs-3.12-books/R/library 0.1.10 4.0.4 vctrs /home/biocbuild/bbs-3.12-books/R/library 0.3.6 4.0.4 velociraptor /home/biocbuild/bbs-3.12-books/R/library 1.0.0 4.0.4 VGAM /home/biocbuild/bbs-3.12-books/R/library 1.1-5 4.0.4 vipor /home/biocbuild/bbs-3.12-books/R/library 0.4.5 4.0.4 viridis /home/biocbuild/bbs-3.12-books/R/library 0.5.1 4.0.4 viridisLite /home/biocbuild/bbs-3.12-books/R/library 0.3.0 4.0.4 withr /home/biocbuild/bbs-3.12-books/R/library 2.4.1 4.0.4 xfun /home/biocbuild/bbs-3.12-books/R/library 0.22 4.0.4 xgboost /home/biocbuild/bbs-3.12-books/R/library 1.3.2.1 4.0.4 XML /home/biocbuild/bbs-3.12-books/R/library 3.99-0.6 4.0.4 xml2 /home/biocbuild/bbs-3.12-books/R/library 1.3.2 4.0.4 xtable /home/biocbuild/bbs-3.12-books/R/library 1.8-4 4.0.4 XVector /home/biocbuild/bbs-3.12-books/R/library 0.30.0 4.0.4 yaml /home/biocbuild/bbs-3.12-books/R/library 2.2.1 4.0.4 zellkonverter /home/biocbuild/bbs-3.12-books/R/library 1.0.3 4.0.4 zlibbioc /home/biocbuild/bbs-3.12-books/R/library 1.36.0 4.0.4