| Back to Long Tests report for BioC 3.12 | 
This page was generated on 2021-05-08 14:20:33 -0400 (Sat, 08 May 2021).
| To the developers/maintainers of the GenomicFeatures package: Please make sure to use the following settings in order to reproduce any error or warning you see on this page. | 
| Package 7/10 | Hostname | OS / Arch | CHECK | |||||||
| GenomicFeatures 1.42.3  (landing page) Bioconductor Package Maintainer 
 | malbec1 | Linux (Ubuntu 18.04.5 LTS) / x86_64 | WARNINGS | |||||||
| tokay1 | Windows Server 2012 R2 Standard / x64 | WARNINGS | ||||||||
| merida1 | macOS 10.14.6 Mojave / x86_64 | WARNINGS | ||||||||
| Package: GenomicFeatures | 
| Version: 1.42.3 | 
| Command: /Library/Frameworks/R.framework/Versions/Current/Resources/bin/R CMD build --keep-empty-dirs --no-resave-data --no-build-vignettes --no-manual GenomicFeatures | 
| StartedAt: 2021-05-08 09:30:49 -0400 (Sat, 08 May 2021) | 
| EndedAt: 2021-05-08 09:31:03 -0400 (Sat, 08 May 2021) | 
| EllapsedTime: 13.8 seconds | 
| RetCode: 0 | 
| Status: OK | 
| PackageFile: GenomicFeatures_1.42.3.tar.gz | 
| PackageFileSize: 1.103 MiB | 
############################################################################## ############################################################################## ### ### Running command: ### ### /Library/Frameworks/R.framework/Versions/Current/Resources/bin/R CMD build --keep-empty-dirs --no-resave-data --no-build-vignettes --no-manual GenomicFeatures ### ############################################################################## ############################################################################## * checking for file ‘GenomicFeatures/DESCRIPTION’ ... OK * preparing ‘GenomicFeatures’: * checking DESCRIPTION meta-information ... OK * checking for LF line-endings in source and make files and shell scripts * checking for empty or unneeded directories * building ‘GenomicFeatures_1.42.3.tar.gz’